Package: BiocFHIR Version: 1.6.0 Command: /home/biocbuild/bbs-3.19-bioc/R/bin/R CMD INSTALL BiocFHIR StartedAt: 2024-10-16 16:18:11 -0400 (Wed, 16 Oct 2024) EndedAt: 2024-10-16 16:18:17 -0400 (Wed, 16 Oct 2024) EllapsedTime: 5.4 seconds RetCode: 0 Status: OK