Package: BiocFHIR Version: 1.6.0 Command: rm -rf BiocFHIR.buildbin-libdir && mkdir BiocFHIR.buildbin-libdir && /Users/biocbuild/BBS/utils/build-universal.sh BiocFHIR_1.6.0.tar.gz /Library/Frameworks/R.framework/Resources/bin/R BiocFHIR.buildbin-libdir StartedAt: 2024-06-10 00:08:25 -0400 (Mon, 10 Jun 2024) EndedAt: 2024-06-10 00:08:36 -0400 (Mon, 10 Jun 2024) EllapsedTime: 11.2 seconds RetCode: 0 Status: OK PackageFile: BiocFHIR_1.6.0.tgz PackageFileSize: 4.294 MiB