Package: BiocFHIR Version: 1.6.0 Command: /home/biocbuild/R/R-beta-2024-04-15_r86425/bin/R CMD build --keep-empty-dirs --no-resave-data BiocFHIR StartedAt: 2024-05-08 22:43:31 -0000 (Wed, 08 May 2024) EndedAt: 2024-05-08 22:44:16 -0000 (Wed, 08 May 2024) EllapsedTime: 45.1 seconds RetCode: 0 Status: OK PackageFile: BiocFHIR_1.6.0.tar.gz PackageFileSize: 4.597 MiB