Package: BiocFHIR Version: 1.6.0 Command: /Library/Frameworks/R.framework/Resources/bin/R CMD INSTALL BiocFHIR StartedAt: 2024-10-16 17:15:00 -0400 (Wed, 16 Oct 2024) EndedAt: 2024-10-16 17:15:07 -0400 (Wed, 16 Oct 2024) EllapsedTime: 7.1 seconds RetCode: 0 Status: OK