Package: BiocCheck Version: 1.40.0 Command: chmod a+r BiocCheck -R && E:\biocbuild\bbs-3.19-bioc\R\bin\R.exe CMD build --keep-empty-dirs --no-resave-data BiocCheck StartedAt: 2024-10-16 17:49:21 -0400 (Wed, 16 Oct 2024) EndedAt: 2024-10-16 17:49:52 -0400 (Wed, 16 Oct 2024) EllapsedTime: 31.1 seconds RetCode: 0 Status: OK PackageFile: BiocCheck_1.40.0.tar.gz PackageFileSize: 4.176 MiB