Package: BiocCheck Version: 1.40.0 Command: /home/biocbuild/bbs-3.19-bioc/R/bin/R CMD INSTALL BiocCheck StartedAt: 2024-10-16 16:01:03 -0400 (Wed, 16 Oct 2024) EndedAt: 2024-10-16 16:01:12 -0400 (Wed, 16 Oct 2024) EllapsedTime: 9.6 seconds RetCode: 0 Status: OK