Package: BiocCheck Version: 1.40.0 Command: /Library/Frameworks/R.framework/Resources/bin/R CMD build --keep-empty-dirs --no-resave-data BiocCheck StartedAt: 2024-10-16 17:24:51 -0400 (Wed, 16 Oct 2024) EndedAt: 2024-10-16 17:25:32 -0400 (Wed, 16 Oct 2024) EllapsedTime: 40.7 seconds RetCode: 0 Status: OK PackageFile: BiocCheck_1.40.0.tar.gz PackageFileSize: 4.176 MiB