Package: BiocCheck Version: 1.40.0 Command: /home/biocbuild/R/R-beta-2024-04-15_r86425/bin/R CMD build --keep-empty-dirs --no-resave-data BiocCheck StartedAt: 2024-05-08 22:43:27 -0000 (Wed, 08 May 2024) EndedAt: 2024-05-08 22:43:47 -0000 (Wed, 08 May 2024) EllapsedTime: 20.0 seconds RetCode: 0 Status: OK PackageFile: BiocCheck_1.40.0.tar.gz PackageFileSize: 4.201 MiB