Package: BiocCheck Version: 1.40.0 Command: /Library/Frameworks/R.framework/Resources/bin/R CMD INSTALL BiocCheck StartedAt: 2024-10-16 16:13:29 -0400 (Wed, 16 Oct 2024) EndedAt: 2024-10-16 16:13:42 -0400 (Wed, 16 Oct 2024) EllapsedTime: 12.8 seconds RetCode: 0 Status: OK