Package: BiocBook Version: 1.2.0 Command: E:\biocbuild\bbs-3.19-bioc\R\bin\R.exe CMD check --no-multiarch --install=check:BiocBook.install-out.txt --library=E:\biocbuild\bbs-3.19-bioc\R\library --no-vignettes --timings BiocBook_1.2.0.tar.gz StartedAt: 2024-10-16 23:13:07 -0400 (Wed, 16 Oct 2024) EndedAt: 2024-10-16 23:15:16 -0400 (Wed, 16 Oct 2024) EllapsedTime: 128.8 seconds RetCode: 1 Status: ERROR CheckDir: BiocBook.Rcheck Warnings: NA