Package: BiocBaseUtils Version: 1.6.0 Command: /home/biocbuild/bbs-3.19-bioc/R/bin/R CMD build --keep-empty-dirs --no-resave-data BiocBaseUtils StartedAt: 2024-10-16 17:11:27 -0400 (Wed, 16 Oct 2024) EndedAt: 2024-10-16 17:11:31 -0400 (Wed, 16 Oct 2024) EllapsedTime: 4.0 seconds RetCode: 0 Status: OK PackageFile: BiocBaseUtils_1.6.0.tar.gz PackageFileSize: 224 KiB