Package: BiocBaseUtils Version: 1.6.0 Command: /Library/Frameworks/R.framework/Resources/bin/R CMD build --keep-empty-dirs --no-resave-data BiocBaseUtils StartedAt: 2024-10-16 17:24:38 -0400 (Wed, 16 Oct 2024) EndedAt: 2024-10-16 17:24:49 -0400 (Wed, 16 Oct 2024) EllapsedTime: 11.5 seconds RetCode: 0 Status: OK PackageFile: BiocBaseUtils_1.6.0.tar.gz PackageFileSize: 223.9 KiB