Package: Biobase Version: 2.64.0 Command: E:\biocbuild\bbs-3.19-bioc\R\bin\R.exe CMD INSTALL Biobase StartedAt: 2024-10-16 16:00:28 -0400 (Wed, 16 Oct 2024) EndedAt: 2024-10-16 16:01:32 -0400 (Wed, 16 Oct 2024) EllapsedTime: 64.0 seconds RetCode: 0 Status: OK