Package: Biobase Version: 2.64.0 Command: chmod a+r Biobase -R && F:\biocbuild\bbs-3.19-bioc\R\bin\R.exe CMD build --keep-empty-dirs --no-resave-data Biobase StartedAt: 2024-06-26 17:21:55 -0400 (Wed, 26 Jun 2024) EndedAt: 2024-06-26 17:22:49 -0400 (Wed, 26 Jun 2024) EllapsedTime: 53.2 seconds RetCode: 0 Status: OK PackageFile: Biobase_2.64.0.tar.gz PackageFileSize: 1.715 MiB