Package: Biobase Version: 2.64.0 Command: /home/biocbuild/bbs-3.19-bioc/R/bin/R CMD check --install=check:Biobase.install-out.txt --library=/home/biocbuild/bbs-3.19-bioc/R/site-library --timings Biobase_2.64.0.tar.gz StartedAt: 2024-10-16 22:00:45 -0400 (Wed, 16 Oct 2024) EndedAt: 2024-10-16 22:01:59 -0400 (Wed, 16 Oct 2024) EllapsedTime: 74.1 seconds RetCode: 0 Status: OK CheckDir: Biobase.Rcheck Warnings: 0