Package: Biobase Version: 2.64.0 Command: rm -rf Biobase.buildbin-libdir && mkdir Biobase.buildbin-libdir && /Users/biocbuild/BBS/utils/build-universal.sh Biobase_2.64.0.tar.gz /Library/Frameworks/R.framework/Resources/bin/R Biobase.buildbin-libdir StartedAt: 2024-06-11 10:17:54 -0400 (Tue, 11 Jun 2024) EndedAt: 2024-06-11 10:18:22 -0400 (Tue, 11 Jun 2024) EllapsedTime: 27.8 seconds RetCode: 0 Status: OK PackageFile: Biobase_2.64.0.tgz PackageFileSize: 2.503 MiB