Package: BioTIP Version: 1.18.0 Command: E:\biocbuild\bbs-3.19-bioc\R\bin\R.exe CMD check --no-multiarch --install=check:BioTIP.install-out.txt --library=E:\biocbuild\bbs-3.19-bioc\R\library --no-vignettes --timings BioTIP_1.18.0.tar.gz StartedAt: 2024-10-16 23:23:02 -0400 (Wed, 16 Oct 2024) EndedAt: 2024-10-16 23:25:20 -0400 (Wed, 16 Oct 2024) EllapsedTime: 137.5 seconds RetCode: 0 Status: WARNINGS CheckDir: BioTIP.Rcheck Warnings: 2