Package: BioQC Version: 1.32.0 Command: E:\biocbuild\bbs-3.19-bioc\R\bin\R.exe CMD check --no-multiarch --install=check:BioQC.install-out.txt --library=E:\biocbuild\bbs-3.19-bioc\R\library --no-vignettes --timings BioQC_1.32.0.tar.gz StartedAt: 2024-10-16 23:22:28 -0400 (Wed, 16 Oct 2024) EndedAt: 2024-10-16 23:24:16 -0400 (Wed, 16 Oct 2024) EllapsedTime: 108.7 seconds RetCode: 0 Status: OK CheckDir: BioQC.Rcheck Warnings: 0