Package: BioQC Version: 1.32.0 Command: rm -rf BioQC.buildbin-libdir && mkdir BioQC.buildbin-libdir && F:\biocbuild\bbs-3.19-bioc\R\bin\R.exe CMD INSTALL --build --library=BioQC.buildbin-libdir BioQC_1.32.0.tar.gz StartedAt: 2024-06-27 07:54:40 -0400 (Thu, 27 Jun 2024) EndedAt: 2024-06-27 07:55:09 -0400 (Thu, 27 Jun 2024) EllapsedTime: 28.9 seconds RetCode: 0 Status: OK PackageFile: BioQC_1.32.0.zip PackageFileSize: 4.448 MiB