Package: BioQC Version: 1.32.0 Command: /home/biocbuild/bbs-3.19-bioc/R/bin/R CMD build --keep-empty-dirs --no-resave-data BioQC StartedAt: 2024-10-16 17:17:17 -0400 (Wed, 16 Oct 2024) EndedAt: 2024-10-16 17:19:06 -0400 (Wed, 16 Oct 2024) EllapsedTime: 109.2 seconds RetCode: 0 Status: OK PackageFile: BioQC_1.32.0.tar.gz PackageFileSize: 4.3 MiB