Package: BioQC Version: 1.32.0 Command: /Library/Frameworks/R.framework/Resources/bin/R CMD INSTALL BioQC StartedAt: 2024-10-16 15:13:46 -0400 (Wed, 16 Oct 2024) EndedAt: 2024-10-16 15:14:17 -0400 (Wed, 16 Oct 2024) EllapsedTime: 30.3 seconds RetCode: 0 Status: OK