Package: BioQC Version: 1.32.0 Command: /home/biocbuild/R/R-beta-2024-04-15_r86425/bin/R CMD check --install=check:BioQC.install-out.txt --library=/home/biocbuild/R/R-beta-2024-04-15_r86425/site-library --no-vignettes --timings BioQC_1.32.0.tar.gz StartedAt: 2024-05-09 05:19:39 -0000 (Thu, 09 May 2024) EndedAt: 2024-05-09 05:20:36 -0000 (Thu, 09 May 2024) EllapsedTime: 57.1 seconds RetCode: 0 Status: OK CheckDir: BioQC.Rcheck Warnings: 0