Package: BioQC Version: 1.32.0 Command: /Library/Frameworks/R.framework/Resources/bin/R CMD INSTALL BioQC StartedAt: 2024-10-16 15:45:37 -0400 (Wed, 16 Oct 2024) EndedAt: 2024-10-16 15:45:52 -0400 (Wed, 16 Oct 2024) EllapsedTime: 14.5 seconds RetCode: 0 Status: OK