Package: BioQC Version: 1.32.0 Command: /Library/Frameworks/R.framework/Resources/bin/R CMD check --install=check:BioQC.install-out.txt --library=/Library/Frameworks/R.framework/Resources/library --no-vignettes --timings BioQC_1.32.0.tar.gz StartedAt: 2024-10-17 14:10:35 -0400 (Thu, 17 Oct 2024) EndedAt: 2024-10-17 14:11:39 -0400 (Thu, 17 Oct 2024) EllapsedTime: 64.0 seconds RetCode: 0 Status: OK CheckDir: BioQC.Rcheck Warnings: 0