Package: BioNetStat Version: 1.24.0 Command: E:\biocbuild\bbs-3.19-bioc\R\bin\R.exe CMD check --no-multiarch --install=check:BioNetStat.install-out.txt --library=E:\biocbuild\bbs-3.19-bioc\R\library --no-vignettes --timings BioNetStat_1.24.0.tar.gz StartedAt: 2024-10-16 23:22:25 -0400 (Wed, 16 Oct 2024) EndedAt: 2024-10-16 23:27:11 -0400 (Wed, 16 Oct 2024) EllapsedTime: 286.7 seconds RetCode: 1 Status: ERROR CheckDir: BioNetStat.Rcheck Warnings: NA