Package: BioNetStat Version: 1.24.0 Command: chmod a+r BioNetStat -R && E:\biocbuild\bbs-3.19-bioc\R\bin\R.exe CMD build --keep-empty-dirs --no-resave-data BioNetStat StartedAt: 2024-10-16 17:54:05 -0400 (Wed, 16 Oct 2024) EndedAt: 2024-10-16 17:56:00 -0400 (Wed, 16 Oct 2024) EllapsedTime: 114.9 seconds RetCode: 0 Status: OK PackageFile: BioNetStat_1.24.0.tar.gz PackageFileSize: 2.88 MiB