Package: BioNetStat Version: 1.24.0 Command: /home/biocbuild/bbs-3.19-bioc/R/bin/R CMD INSTALL BioNetStat StartedAt: 2024-10-16 16:21:31 -0400 (Wed, 16 Oct 2024) EndedAt: 2024-10-16 16:21:50 -0400 (Wed, 16 Oct 2024) EllapsedTime: 19.2 seconds RetCode: 0 Status: OK