Package: BioNet Version: 1.64.0 Command: E:\biocbuild\bbs-3.19-bioc\R\bin\R.exe CMD check --no-multiarch --install=check:BioNet.install-out.txt --library=E:\biocbuild\bbs-3.19-bioc\R\library --no-vignettes --timings BioNet_1.64.0.tar.gz StartedAt: 2024-10-16 23:22:14 -0400 (Wed, 16 Oct 2024) EndedAt: 2024-10-16 23:26:37 -0400 (Wed, 16 Oct 2024) EllapsedTime: 263.3 seconds RetCode: 0 Status: OK CheckDir: BioNet.Rcheck Warnings: 0