Package: BioNet Version: 1.64.0 Command: rm -rf BioNet.buildbin-libdir && mkdir BioNet.buildbin-libdir && E:\biocbuild\bbs-3.19-bioc\R\bin\R.exe CMD INSTALL --build --library=BioNet.buildbin-libdir BioNet_1.64.0.tar.gz StartedAt: 2024-10-17 07:26:05 -0400 (Thu, 17 Oct 2024) EndedAt: 2024-10-17 07:26:33 -0400 (Thu, 17 Oct 2024) EllapsedTime: 27.3 seconds RetCode: 0 Status: OK PackageFile: BioNet_1.64.0.zip PackageFileSize: 1.327 MiB