Package: BioNAR Version: 1.6.3 Command: E:\biocbuild\bbs-3.19-bioc\R\bin\R.exe CMD INSTALL BioNAR StartedAt: 2024-10-16 16:56:10 -0400 (Wed, 16 Oct 2024) EndedAt: 2024-10-16 16:57:11 -0400 (Wed, 16 Oct 2024) EllapsedTime: 61.6 seconds RetCode: 0 Status: OK