Package: BioMVCClass Version: 1.72.0 Command: /home/biocbuild/bbs-3.19-bioc/R/bin/R CMD check --install=check:BioMVCClass.install-out.txt --library=/home/biocbuild/bbs-3.19-bioc/R/site-library --timings BioMVCClass_1.72.0.tar.gz StartedAt: 2024-10-16 22:10:11 -0400 (Wed, 16 Oct 2024) EndedAt: 2024-10-16 22:10:41 -0400 (Wed, 16 Oct 2024) EllapsedTime: 30.1 seconds RetCode: 0 Status: OK CheckDir: BioMVCClass.Rcheck Warnings: 0