Package: BioMVCClass Version: 1.72.0 Command: /home/biocbuild/bbs-3.19-bioc/R/bin/R CMD build --keep-empty-dirs --no-resave-data BioMVCClass StartedAt: 2024-10-16 17:16:36 -0400 (Wed, 16 Oct 2024) EndedAt: 2024-10-16 17:16:42 -0400 (Wed, 16 Oct 2024) EllapsedTime: 6.0 seconds RetCode: 0 Status: OK PackageFile: BioMVCClass_1.72.0.tar.gz PackageFileSize: 131.4 KiB