Package: BioMVCClass Version: 1.72.0 Command: /Library/Frameworks/R.framework/Resources/bin/R CMD INSTALL BioMVCClass StartedAt: 2024-10-16 15:12:04 -0400 (Wed, 16 Oct 2024) EndedAt: 2024-10-16 15:12:30 -0400 (Wed, 16 Oct 2024) EllapsedTime: 26.4 seconds RetCode: 0 Status: OK