Package: BioMVCClass Version: 1.72.0 Command: /home/biocbuild/R/R-beta-2024-04-15_r86425/bin/R CMD INSTALL BioMVCClass StartedAt: 2024-05-08 20:07:18 -0000 (Wed, 08 May 2024) EndedAt: 2024-05-08 20:07:31 -0000 (Wed, 08 May 2024) EllapsedTime: 12.9 seconds RetCode: 0 Status: OK