Package: BioCor Version: 1.28.0 Command: E:\biocbuild\bbs-3.19-bioc\R\bin\R.exe CMD check --no-multiarch --install=check:BioCor.install-out.txt --library=E:\biocbuild\bbs-3.19-bioc\R\library --no-vignettes --timings BioCor_1.28.0.tar.gz StartedAt: 2024-10-16 23:14:38 -0400 (Wed, 16 Oct 2024) EndedAt: 2024-10-16 23:21:16 -0400 (Wed, 16 Oct 2024) EllapsedTime: 397.9 seconds RetCode: 0 Status: OK CheckDir: BioCor.Rcheck Warnings: 0