Package: BioCor Version: 1.28.0 Command: rm -rf BioCor.buildbin-libdir && mkdir BioCor.buildbin-libdir && E:\biocbuild\bbs-3.19-bioc\R\bin\R.exe CMD INSTALL --build --library=BioCor.buildbin-libdir BioCor_1.28.0.tar.gz StartedAt: 2024-10-17 07:24:36 -0400 (Thu, 17 Oct 2024) EndedAt: 2024-10-17 07:25:19 -0400 (Thu, 17 Oct 2024) EllapsedTime: 43.1 seconds RetCode: 0 Status: OK PackageFile: BioCor_1.28.0.zip PackageFileSize: 1.121 MiB