Package: BioCor Version: 1.28.0 Command: F:\biocbuild\bbs-3.19-bioc\R\bin\R.exe CMD check --no-multiarch --install=check:BioCor.install-out.txt --library=F:\biocbuild\bbs-3.19-bioc\R\library --no-vignettes --timings BioCor_1.28.0.tar.gz StartedAt: 2024-06-26 23:22:38 -0400 (Wed, 26 Jun 2024) EndedAt: 2024-06-26 23:30:33 -0400 (Wed, 26 Jun 2024) EllapsedTime: 475.5 seconds RetCode: 0 Status: OK CheckDir: BioCor.Rcheck Warnings: 0