Package: BioCor Version: 1.28.0 Command: rm -rf BioCor.buildbin-libdir && mkdir BioCor.buildbin-libdir && /Users/biocbuild/BBS/utils/build-universal.sh BioCor_1.28.0.tar.gz /Library/Frameworks/R.framework/Resources/bin/R BioCor.buildbin-libdir StartedAt: 2024-10-17 15:42:57 -0400 (Thu, 17 Oct 2024) EndedAt: 2024-10-17 15:43:49 -0400 (Thu, 17 Oct 2024) EllapsedTime: 51.7 seconds RetCode: 0 Status: OK PackageFile: BioCor_1.28.0.tgz PackageFileSize: 1.692 MiB