Package: BioCor Version: 1.28.0 Command: /home/biocbuild/R/R-beta-2024-04-15_r86425/bin/R CMD check --install=check:BioCor.install-out.txt --library=/home/biocbuild/R/R-beta-2024-04-15_r86425/site-library --no-vignettes --timings BioCor_1.28.0.tar.gz StartedAt: 2024-05-09 05:12:38 -0000 (Thu, 09 May 2024) EndedAt: 2024-05-09 05:16:33 -0000 (Thu, 09 May 2024) EllapsedTime: 234.4 seconds RetCode: 0 Status: OK CheckDir: BioCor.Rcheck Warnings: 0