Package: BioCor Version: 1.28.0 Command: /home/biocbuild/R/R-beta-2024-04-15_r86425/bin/R CMD build --keep-empty-dirs --no-resave-data BioCor StartedAt: 2024-05-08 22:44:20 -0000 (Wed, 08 May 2024) EndedAt: 2024-05-08 22:49:04 -0000 (Wed, 08 May 2024) EllapsedTime: 284.4 seconds RetCode: 0 Status: OK PackageFile: BioCor_1.28.0.tar.gz PackageFileSize: 1.209 MiB