Package: BioCor Version: 1.28.0 Command: rm -rf BioCor.buildbin-libdir && mkdir BioCor.buildbin-libdir && /Users/biocbuild/BBS/utils/build-universal.sh BioCor_1.28.0.tar.gz /Library/Frameworks/R.framework/Resources/bin/R BioCor.buildbin-libdir StartedAt: 2024-10-18 17:30:07 -0400 (Fri, 18 Oct 2024) EndedAt: 2024-10-18 17:30:39 -0400 (Fri, 18 Oct 2024) EllapsedTime: 31.1 seconds RetCode: 0 Status: OK PackageFile: BioCor_1.28.0.tgz PackageFileSize: 1.692 MiB