Package: BindingSiteFinder Version: 2.2.0 Command: E:\biocbuild\bbs-3.19-bioc\R\bin\R.exe CMD INSTALL BindingSiteFinder StartedAt: 2024-10-16 16:42:34 -0400 (Wed, 16 Oct 2024) EndedAt: 2024-10-16 16:43:43 -0400 (Wed, 16 Oct 2024) EllapsedTime: 68.9 seconds RetCode: 0 Status: OK