Package: BindingSiteFinder Version: 2.2.0 Command: /home/biocbuild/bbs-3.19-bioc/R/bin/R CMD INSTALL BindingSiteFinder StartedAt: 2024-10-16 16:18:11 -0400 (Wed, 16 Oct 2024) EndedAt: 2024-10-16 16:18:53 -0400 (Wed, 16 Oct 2024) EllapsedTime: 42.2 seconds RetCode: 0 Status: OK