Package: BindingSiteFinder Version: 2.2.0 Command: /home/biocbuild/R/R-beta-2024-04-15_r86425/bin/R CMD INSTALL BindingSiteFinder StartedAt: 2024-05-08 20:35:16 -0000 (Wed, 08 May 2024) EndedAt: 2024-05-08 20:36:16 -0000 (Wed, 08 May 2024) EllapsedTime: 59.9 seconds RetCode: 0 Status: OK