Package: BindingSiteFinder Version: 2.2.0 Command: /home/biocbuild/R/R-beta-2024-04-15_r86425/bin/R CMD build --keep-empty-dirs --no-resave-data BindingSiteFinder StartedAt: 2024-05-08 22:41:03 -0000 (Wed, 08 May 2024) EndedAt: 2024-05-08 22:44:49 -0000 (Wed, 08 May 2024) EllapsedTime: 226.3 seconds RetCode: 0 Status: OK PackageFile: BindingSiteFinder_2.2.0.tar.gz PackageFileSize: 2.216 MiB