Package: BindingSiteFinder Version: 2.2.0 Command: /Library/Frameworks/R.framework/Resources/bin/R CMD INSTALL BindingSiteFinder StartedAt: 2024-10-16 17:14:35 -0400 (Wed, 16 Oct 2024) EndedAt: 2024-10-16 17:15:27 -0400 (Wed, 16 Oct 2024) EllapsedTime: 52.2 seconds RetCode: 0 Status: OK