Package: BindingSiteFinder Version: 2.2.0 Command: rm -rf BindingSiteFinder.buildbin-libdir && mkdir BindingSiteFinder.buildbin-libdir && /Users/biocbuild/BBS/utils/build-universal.sh BindingSiteFinder_2.2.0.tar.gz /Library/Frameworks/R.framework/Resources/bin/R BindingSiteFinder.buildbin-libdir StartedAt: 2024-10-18 17:28:41 -0400 (Fri, 18 Oct 2024) EndedAt: 2024-10-18 17:29:47 -0400 (Fri, 18 Oct 2024) EllapsedTime: 66.4 seconds RetCode: 0 Status: OK PackageFile: BindingSiteFinder_2.2.0.tgz PackageFileSize: 3.226 MiB