Package: BicARE Version: 1.62.0 Command: chmod a+r BicARE -R && F:\biocbuild\bbs-3.19-bioc\R\bin\R.exe CMD build --keep-empty-dirs --no-resave-data BicARE StartedAt: 2024-06-26 17:19:16 -0400 (Wed, 26 Jun 2024) EndedAt: 2024-06-26 17:22:36 -0400 (Wed, 26 Jun 2024) EllapsedTime: 200.4 seconds RetCode: 0 Status: OK PackageFile: BicARE_1.62.0.tar.gz PackageFileSize: 330.9 KiB