Package: BicARE Version: 1.62.0 Command: /home/biocbuild/bbs-3.19-bioc/R/bin/R CMD check --install=check:BicARE.install-out.txt --library=/home/biocbuild/bbs-3.19-bioc/R/site-library --timings BicARE_1.62.0.tar.gz StartedAt: 2024-10-16 21:59:18 -0400 (Wed, 16 Oct 2024) EndedAt: 2024-10-16 22:03:32 -0400 (Wed, 16 Oct 2024) EllapsedTime: 253.5 seconds RetCode: 0 Status: OK CheckDir: BicARE.Rcheck Warnings: 0