Package: BicARE Version: 1.62.0 Command: /home/biocbuild/bbs-3.19-bioc/R/bin/R CMD build --keep-empty-dirs --no-resave-data BicARE StartedAt: 2024-10-16 17:09:58 -0400 (Wed, 16 Oct 2024) EndedAt: 2024-10-16 17:12:00 -0400 (Wed, 16 Oct 2024) EllapsedTime: 121.2 seconds RetCode: 0 Status: OK PackageFile: BicARE_1.62.0.tar.gz PackageFileSize: 329.5 KiB